BEGIN:VCALENDAR
VERSION:2.0
PRODID:-//Tukios.com/
BEGIN:VEVENT
UID:282a6f32-f1f1-476c-b551-7613373f898b@www.millerfhed.com
DTSTAMP:20260420T110510Z
DTSTART:20260425T153000Z
DTEND:20260425T163000Z
SUMMARY:Mass
DESCRIPTION:
URL:https://www.millerfhed.com/obituaries/trisha-brookins
LOCATION:St. Raphael Cathedral 231 Bluff Street  Dubuque IA 52001
GEO:42.4951723;-90.6672695
END:VEVENT
END:VCALENDAR