BEGIN:VCALENDAR
VERSION:2.0
PRODID:-//Tukios.com/
BEGIN:VEVENT
UID:308a3d26-6b3e-49ba-84cc-b795ca5c333f@www.millerfhed.com
DTSTAMP:20260420T110923Z
DTSTART:20260425T140000Z
DTEND:20260425T151500Z
SUMMARY:Visitation
DESCRIPTION:
URL:https://www.millerfhed.com/obituaries/trisha-brookins
LOCATION:St. Raphael Cathedral 231 Bluff Street  Dubuque IA 52001
GEO:42.4951723;-90.6672695
END:VEVENT
END:VCALENDAR