BEGIN:VCALENDAR
VERSION:2.0
PRODID:-//Tukios.com/
BEGIN:VEVENT
UID:6e7bde10-b1d5-4de2-9244-a9584b5b79ff@www.millerfhed.com
DTSTAMP:20260420T104917Z
DTSTART:20260424T200000Z
DTEND:20260425T003000Z
SUMMARY:Visitation
DESCRIPTION:
URL:https://www.millerfhed.com/obituaries/trisha-brookins
LOCATION:St. Raphael Cathedral 231 Bluff Street  Dubuque IA 52001
GEO:42.4951723;-90.6672695
END:VEVENT
END:VCALENDAR