BEGIN:VCALENDAR
VERSION:2.0
PRODID:-//Tukios.com/
BEGIN:VEVENT
UID:3e6643cf-3e92-4c8d-92de-12b1d00b19f3@www.millerfhed.com
DTSTAMP:20260424T192653Z
DTSTART:20260427T150000Z
DTEND:20260427T160000Z
SUMMARY:Burial
DESCRIPTION:
URL:https://www.millerfhed.com/obituaries/thomas-vaughan
LOCATION:East Dubuque Cemetery Hill Street  East Dubuque IL 61025
GEO:42.4910824;-90.6380241
END:VEVENT
END:VCALENDAR