BEGIN:VCALENDAR
VERSION:2.0
PRODID:-//Tukios.com/
BEGIN:VEVENT
UID:d71d3e11-788b-414c-9237-49cf45ba1e98@www.millerfhed.com
DTSTAMP:20260424T192653Z
DTSTART:20260426T190000Z
DTEND:20260426T210000Z
SUMMARY:Visitation
DESCRIPTION:
URL:https://www.millerfhed.com/obituaries/thomas-vaughan
LOCATION:Miller Funeral Home 1185 Illinois 35  East Dubuque IL 61025
GEO:42.4998013;-90.6238372
END:VEVENT
END:VCALENDAR