BEGIN:VCALENDAR
VERSION:2.0
PRODID:-//Tukios.com/
BEGIN:VEVENT
UID:d692f8f4-9a1a-4354-9779-893c81a48a90@www.millerfhed.com
DTSTAMP:20260424T193236Z
DTSTART:20260509T190000Z
DTEND:20260509T210000Z
SUMMARY:Celebration of Life
DESCRIPTION:
URL:https://www.millerfhed.com/obituaries/leisa-barklow
LOCATION:Lacoma Golf Event Center 8080 Timmerman Drive  East Dubuque IL 
	61025
GEO:42.489349;-90.626381
END:VEVENT
END:VCALENDAR